Workbook

Sheet صورت وضعیت
A1: صندوق قابل معامله با درآمد ثابت ماهور
A2: صورت وضعیت پرتفوی
A3: برای ماه منتهی به 1405/06/31

Sheet 0 
A20: صندوق سرمایه‌گذاری در اوراق بهادار بادرآمد ثابت ماهور
A21: ‫صورت وضعیت پورتفوی
A22: برای ماه منتهی به 31 شهریور ماه 1405

Sheet سهام
A1: صندوق قابل معامله با درآمد ثابت ماهور
A2: صورت وضعیت پرتفوی
A3: برای ماه منتهی به 1405/06/31
A6: -1 | B6: سرمایه گذاری ها
A7: -1-1 | C7: سرمایه گذاری در سهام و حق تقدم سهام
F8: 1405/05/31 | L8: تغییرات طی دوره | T8: 1405/06/31
L9: خرید طی دوره | P9: فروش طی دوره | AE9: 152046121760472
A10: نام شرکت | E10: تعداد | H10: بهای تمام شده | J10: خالص ارزش فروش | L10: تعداد | N10: بهای تمام شده | P10: تعداد | R10: مبلغ فروش | T10: تعداد | V10: قیمت بازار هر سهم | X10: بهای تمام شده | Z10: خالص ارزش فروش | AB10: درصد به کل دارایی ها
A11: شمش طلا GoldBar | E11: 6274 | H11: 157555767486 | J11: 175250387200 | L11: 0 | N11: 0 | P11: -6274 | R11: 188197289155 | T11: 0 | V11: 0 | X11: 0 | Z11: 0 | AB11: =Z11/AE9 -> 0
A12: شمش نقره SilverBar | E12: 96448 | H12: 447441763183 | J12: 4.3394326e+11 | L12: 0 | N12: 0 | P12: -46734 | R12: 219683190092 | T12: 49714 | V12: 5020000 | X12: 230633292709 | Z12: 248965325728 | AB12: =Z12/$AE$9 -> 0.0016374329
A13: فولاد هرمزگان جنوب | E13: 606007989 | H13: 1000203930206 | J13: 1119063121423 | L13: 0 | N13: 0 | P13: 0 | R13: 0 | T13: 606007989 | V13: 1895 | X13: 1000203930206 | Z13: 1.1395081e+12 | AB13: =Z13/$AE$9 -> 0.0074944899
A14: گروه توسعه مالی مهرآیندگان | E14: 5000000 | H14: 24389719185 | J14: 39889254000 | L14: 2500000 | N14: 0 | P14: 0 | R14: 0 | T14: 7500000 | V14: 5650 | X14: 24389719185 | Z14: 42047441250 | AB14: =Z14/$AE$9 -> 0.00027654399
A15: نساجی هدیه البرز مشهد | E15: 0 | H15: 0 | J15: 0 | L15: 69300000 | N15: 1110534940407 | P15: 0 | R15: 0 | T15: 69300000 | V15: 16200 | X15: 1110534940407 | Z15: 1113981838200 | AB15: =Z15/$AE$9 -> 0.0073266048
A16: تولیدی فولاد سپید فراب کویر | E16: 0 | H16: 0 | J16: 0 | L16: 1000000 | N16: 2559801185 | P16: 0 | R16: 0 | T16: 1000000 | V16: 2625 | X16: 2559801185 | Z16: 2604708750 | AB16: =Z16/$AE$9 -> 1.7131044e-05
A17: پارس‌ مینو | E17: 0 | H17: 0 | J17: 0 | L17: 56000000 | N17: 121903890472 | P17: 0 | R17: 0 | T17: 56000000 | V17: 1994 | X17: 121903890472 | Z17: 110800837280 | AB17: =Z17/$AE$9 -> 0.00072873176
A18: ='درآمد ناشی از تغییر قیمت اوراق'!A34 -> ظهرمز05091 | E18: ='درآمد ناشی از تغییر قیمت اوراق'!C34 -> 606007989 | H18: ='درآمد ناشی از تغییر قیمت اوراق'!E34 -> 605548937 | I18: ='درآمد ناشی از تغییر قیمت اوراق'!F34 -> 0 | J18: ='درآمد ناشی از تغییر قیمت اوراق'!G34 -> 605548937 | P18: 0 | R18: 0 | T18: 0 | V18: 0 | X18: ='درآمد ناشی از تغییر قیمت اوراق'!M34 -> 605548937 | Y18: ='درآمد ناشی از تغییر قیمت اوراق'!N34 -> 0 | Z18: ='درآمد ناشی از تغییر قیمت اوراق'!O34 -> 605548937 | AB18: =Z18/$AE$9 -> 3.9826661e-06
A19: جمع | E19: =SUM(E11:F18) -> 1217118700 | H19: =SUM(H11:H18) -> 1630196728997 | J19: =SUM(J11:J18) -> 1.7687516e+12 | L19: =SUM(L11:L18) -> 128800000 | N19: =SUM(N11:N18) -> 1234998632064 | P19: =SUM(P11:P18) -> -53008 | R19: =SUM(R11:R18) -> 407880479247 | T19: =SUM(T11:T18) -> 739857703 | X19: =SUM(X11:X18) -> 2490831123101 | Z19: =SUM(Z11:Z18) -> 2.6585138e+12 | AB19: =SUM(AB11:AB18) -> 0.017484917

Sheet اوراق مشتقه
A1: صندوق قابل معامله با درآمد ثابت ماهور
A2: صورت وضعیت پرتفوی
A3: برای ماه منتهی به 1405/06/31
A6: اطلاعات آماری مرتبط با اوراق اختیار فروش تبعی خریداری شده توسط صندوق سرمایه گذاری:
I7: 1405/05/31 | AC7: 1405/06/31
A9: نام سهام | I9: تعداد اوراق تبعی | M9: قیمت اعمال | Q9: تاریخ اعمال | AC9: تعداد اوراق تبعی | AI9: قیمت اعمال | AM9: تاریخ اعمال
A10: اختیارف.ت.هرمز-2193-050818 | I10: 606007989 | M10: 1949 | Q10: 1405/08/18 | AC10: 606007989 | AI10: 1949 | AM10: 1405/08/18
A11: اطلاعات آماری مرتبط با موقعیت های اخذ شده در اوراق اختیار معامله توسط صندوق سرمایه گذاری:
C12: 1405/05/31 | Y12: 1405/06/31
A13: نام سهام | C13: نوع اختیار | E13: نوع موقعیت | K13: تعداد اوراق | O13: قیمت اعمال | S13: تاریخ اعمال | Y13: نوع اختیار | AE13: نوع موقعیت | AO13: تعداد اوراق | AS13: قیمت اعمال | AV13: تاریخ اعمال
A14: اختیارخ.ت.هرمز-2243-050918 | C14: اختیار خرید | E14: موقعیت فروش | K14: 606007989 | O14: 1996 | S14: 1405/09/18 | Y14: اختیار خرید | AE14: موقعیت فروش | AO14: 606007989 | AS14: 1996 | AV14: 1405/09/18

Sheet واحدهای صندوق
A1: صندوق قابل معامله با درآمد ثابت ماهور
A2: صورت وضعیت پرتفوی
A3: برای ماه منتهی به 1405/06/31
A7: -2-1 | B7: سرمایه‌گذاری در واحدهای صندوق های سرمایه گذاری
E8: 1405/05/31 | K8: تغییرات طی دوره | S8: 1405/06/31 | AD8: =سهام!AE9 -> 152046121760472
K9: خرید/صدور طی دوره | O9: فروش/ابطال طی دوره
A10: صندوق | D10: تعداد واحد | G10: بهای تمام شده | I10: خالص ارزش فروش | K10: تعداد | M10: بهای تمام شده | O10: تعداد | Q10: مبلغ فروش | S10: تعداد | U10: قیمت ابطال / بازار هر واحد | W10: بهای تمام شده | Y10: خالص ارزش فروش | AA10: درصد به کل دارایی ها
A11: صندوق س اندیشه خبرگان-سهام | D11: 3340000 | G11: 70313319261 | I11: 169654974016 | K11: 0 | M11: 0 | O11: 0 | Q11: 0 | S11: 3340000 | U11: 60000 | W11: 70313319261 | Y11: 199939080000 | AA11: =Y11/AD8 -> 0.0013149897
A12: صندوق س اهرمی نارنج - واحدهای عادی صندوق | D12: 225850904 | G12: 3973835247771 | I12: 4.4027759e+12 | K12: 0 | M12: 0 | O12: -149985001 | Q12: 3.0026232e+12 | S12: 75865903 | U12: 20037.04 | W12: 1334856731171 | Y12: 1.5201281e+12 | AA12: =Y12/$AD$8 -> 0.0099978093
A13: صندوق س صنایع پاسارگاد1-بخشی | D13: 10000000 | G13: 100224500000 | I13: 99770000000 | K13: 0 | M13: 0 | O13: 0 | Q13: 0 | S13: 10000000 | U13: 10160 | W13: 100224500000 | Y13: 101366320000 | AA13: =Y13/$AD$8 -> 0.00066668139
A14: صندوق س صنایع کارآمد1-بخشی | D14: 10000000 | G14: 100224500000 | I14: 99770000000 | K14: 0 | M14: 0 | O14: 0 | Q14: 0 | S14: 10000000 | U14: 10366 | W14: 100224500000 | Y14: 103421582000 | AA14: =Y14/$AD$8 -> 0.00068019875
A15: صندوق س. کالای دیبای معیار1 | D15: 20000000 | G15: 200240000000 | I15: 199760000000 | K15: 0 | M15: 0 | O15: -20000000 | Q15: 217678794186 | S15: 0 | U15: 0 | W15: 0 | Y15: 0 | AA15: =Y15/$AD$8 -> 0
A16: صندوق س.بخشی صنایع معیار-ب | D16: 10000000 | G16: 112304366815 | I16: 125370982000 | K16: 0 | M16: 0 | O16: -10000000 | Q16: 128201607887 | S16: 0 | U16: 0 | W16: 0 | Y16: 0 | AA16: =Y16/$AD$8 -> 0
A17: صندوق س.پشتوانه طلا دنای زاگرس | D17: 10828676 | G17: 547102638143 | I17: 8.4672726e+11 | K17: 0 | M17: 0 | O17: 0 | Q17: 0 | S17: 10828676 | U17: 87975 | W17: 547102638143 | Y17: 9.5150959e+11 | AA17: =Y17/$AD$8 -> 0.0062580326
A18: صندوق س.پشتوانه طلای رز | D18: 98460724 | G18: 2041588654990 | I18: 2.5568085e+12 | K18: 0 | M18: 0 | O18: 0 | Q18: 0 | S18: 98460724 | U18: 29647 | W18: 2041588654990 | Y18: 2.9155622e+12 | AA18: =Y18/$AD$8 -> 0.019175512
A19: صندوق س.سهام آوای معیار-س | D19: 7001000 | G19: 183270168868 | I19: 224983554917 | K19: 0 | M19: 0 | O19: -7000000 | Q19: 262217509400 | S19: 1000 | U19: 35140 | W19: 26177714 | Y19: 35059178 | AA19: =Y19/$AD$8 -> 2.3058252e-07
A20: صندوق س.كالاي ديباي ليان | D20: 101067293 | G20: 3400122456983 | I20: 3.8864215e+12 | K20: 0 | M20: 0 | O20: -100715337 | Q20: 4202291372231 | S20: 351956 | U20: 43700 | W20: 11840561677 | Y20: 1.5362021e+10 | AA20: =Y20/$AD$8 -> 0.00010103527
A21: صندوق س راه نو ره سود-سهام | D21: 0 | G21: 0 | I21: 0 | K21: 10000000 | M21: 100224500000 | O21: 0 | Q21: 0 | S21: 10000000 | U21: 10000 | W21: 100224500000 | Y21: 99770000000 | AA21: =Y21/$AD$8 -> 0.00065618247
A22: جمع | D22: =SUM(D11:E21) -> 496548597 | G22: =SUM(G11:G21) -> 10729225852831 | I22: =SUM(I11:I21) -> 1.2612043e+13 | K22: =SUM(K11:K21) -> 10000000 | M22: =SUM(M11:M21) -> 100224500000 | O22: =SUM(O11:O21) -> -287700338 | Q22: =SUM(Q11:Q21) -> 7.8130125e+12 | S22: =SUM(S11:S21) -> 218848259 | W22: =SUM(W11:W21) -> 4306401582956 | Y22: =SUM(Y11:Y21) -> 5.907094e+12 | AA22: =SUM(AA11:AA21) -> 0.038850672

Sheet اوراق
A1: صندوق قابل معامله با درآمد ثابت ماهور
A2: صورت وضعیت پرتفوی
A3: برای ماه منتهی به 1405/06/31
A5: -3-1 | B5: سرمایه‌گذاری در اوراق بهادار با درآمد ثابت یا علی‌الحساب
A6: اطلاعات اوراق با درآمد ثابت | K6: 1405/05/31 | Q6: تغییرات طی دوره | Y6: 1405/06/31
Q7: خرید طی دوره | U7: فروش طی دوره | AJ7: ='واحدهای صندوق'!AD8 -> 152046121760472
A8: نام اوراق | D8: دارای مجوز از سازمان | F8: پذیرفته شده در بورس یا فرابورس | H8: تاریخ انتشار اوراق | J8: تاریخ سررسید | K8: تعداد | M8: بهای تمام شده | O8: خالص ارزش فروش | Q8: تعداد | S8: بهای تمام شده | U8: تعداد | W8: مبلغ فروش | Y8: تعداد | AA8: قیمت بازار هر سهم | AC8: بهای تمام شده | AE8: خالص ارزش فروش | AG8: درصد به کل دارایی ها
A9: سلف گندله سنگ آهن صبانور | D9: بله | F9: بله | H9: 1404/01/20 | J9: 1406/01/20 | K9: 2191177 | M9: 14922720650678 | O9: 20376799267210 | Q9: 0 | S9: 0 | U9: 1 | W9: 9299478 | Y9: 2191176 | AA9: 9305758 | AC9: 14922713840310 | AE9: 20376789967733 | AG9: =AE9/AJ7 -> 0.13401716
A10: سلف موازی هیدروکربن آفتاب062 | D10: بله | F10: بله | H10: 1404/03/12 | J10: 1406/03/12 | K10: 1335900 | M10: 4999848883800 | O10: 6461741328042 | Q10: 0 | S10: 0 | U10: 0 | W10: 0 | Y10: 1335900 | AA10: 4916551 | AC10: 4999848883800 | AE10: 6563587264388 | AG10: =AE10/$AJ$7 -> 0.043168396
A11: اسنادخزانه-م3بودجه02-050818 | D11: بله | F11: بله | H11: 1402/08/15 | J11: 1405/08/18 | K11: 9086 | M11: 5082255524 | O11: 8427223204 | Q11: 0 | S11: 0 | U11: 0 | W11: 0 | Y11: 9086 | AA11: 958000 | AC11: 5082255524 | AE11: 8699654989 | AG11: =AE11/$AJ$7 -> 5.7217211e-05
A12: صکوک مرابحه سپید507-بدون ضامن | D12: بله | F12: بله | H12: 1403/07/08 | J12: 1405/07/08 | K12: 1500000 | M12: 1500000000000 | O12: 1499184375000 | Q12: 0 | S12: 0 | U12: 0 | W12: 0 | Y12: 1500000 | AA12: 1000000 | AC12: 1500000000000 | AE12: 1499184375000 | AG12: =AE12/$AJ$7 -> 0.0098600632
A13: مرابحه آرگون نورد ایران080714 | D13: بله | F13: بله | H13: 1404/07/14 | J13: 1408/07/14 | K13: 2500000 | M13: 2500000000000 | O13: 2498640625000 | Q13: 0 | S13: 0 | U13: 0 | W13: 0 | Y13: 2500000 | AA13: 1000000 | AC13: 2500000000000 | AE13: 2498640625000 | AG13: =AE13/$AJ$7 -> 0.016433439
A14: مرابحه عام دولت244-ش.خ070913 | D14: بله | F14: بله | H14: 1404/08/13 | J14: 1407/09/13 | K14: 2474661 | M14: 1941289124284 | O14: 1982856958650 | Q14: 0 | S14: 0 | U14: 0 | W14: 0 | Y14: 2474661 | AA14: 806000 | AC14: 1941289124284 | AE14: 1993492214883 | AG14: =AE14/$AJ$7 -> 0.013111102
A15: مرابحه عام دولت245-ش.خ070813 | D15: بله | F15: بله | H15: 1404/08/13 | J15: 1407/08/13 | K15: 624417 | M15: 543197775920 | O15: 493021203872 | Q15: 0 | S15: 0 | U15: 0 | W15: 0 | Y15: 624417 | AA15: 790000 | AC15: 543197775920 | AE15: 493021203872 | AG15: =AE15/$AJ$7 -> 0.0032425766
A16: مرابحه عام دولت254-ش.خ070911 | D16: بله | F16: بله | H16: 1404/09/11 | J16: 1407/09/11 | K16: 1900000 | M16: 1492190000000 | O16: 1509754624300 | Q16: 0 | S16: 0 | U16: 0 | W16: 0 | Y16: 1900000 | AA16: 781900 | AC16: 1492190000000 | AE16: 1484802199562 | AG16: =AE16/$AJ$7 -> 0.0097654724
A17: مرابحه عام دولت265-ش.خ070430 | D17: بله | F17: بله | H17: 1404/10/30 | J17: 1407/04/30 | K17: 10691200 | M17: 8848050135275 | O17: 9200117914260 | Q17: 0 | S17: 0 | U17: 1211000 | W17: 1003868830897 | Y17: 9480200 | AA17: 814700 | AC17: 7845825061025 | AE17: 7719319276576 | AG17: =AE17/$AJ$7 -> 0.05076959
A18: مشارکت ش تبریز062-3ماهه20.5% | D18: بله | F18: بله | H18: 1402/12/28 | J18: 1406/12/28 | K18: 2997794 | M18: 2997794405082 | O18: 3085740263111 | Q18: 0 | S18: 0 | U18: 0 | W18: 0 | Y18: 2997794 | AA18: 1029897 | AC18: 2997794405082 | AE18: 3085740263111 | AG18: =AE18/$AJ$7 -> 0.020294765
A19: مرابحه عام دولت209-ش.خ050821 | D19: بله | F19: بله | H19: 1403/12/21 | J19: 1405/08/21 | K19: 0 | M19: 0 | O19: 0 | Q19: 9863003 | S19: 9701147066555 | U19: 0 | W19: 0 | Y19: 9863003 | AA19: 984860 | AC19: 9701147066555 | AE19: 9708395322638 | AG19: =AE19/$AJ$7 -> 0.063851647
A20: جمع | K20: =SUM(K9:K19) -> 26224235 | M20: =SUM(M9:M19) -> 39750173230563 | O20: =SUM(O9:O19) -> 47116283782649 | Q20: =SUM(Q9:Q19) -> 9863003 | S20: =SUM(S9:S19) -> 9701147066555 | U20: =SUM(U9:U19) -> 1211001 | W20: =SUM(W9:W19) -> 1003878130375 | Y20: =SUM(Y9:Y19) -> 34876237 | AC20: =SUM(AC9:AC19) -> 48449088412500 | AE20: =SUM(AE9:AE19) -> 55431672367752 | AG20: =SUM(AG9:AG19) -> 0.36457143

Sheet تعدیل قیمت
A1: صندوق قابل معامله با درآمد ثابت ماهور
A2: صورت وضعیت پرتفوی
A3: برای ماه منتهی به 1405/06/31
A4: اوراق بهاداری که ارزش آنها در تاریخ گزارش تعدیل شده
A5: (بر اساس دستورالعمل نحوه تعیین قیمت خرید و فروش اوراق بهادار در صندوق های سرمایه گذاری)
C7: 1405/06/31
A8: نام اوراق بهادار | C8: تعداد | E8: قیمت پایانی | G8: قیمت تعدیل شده | I8: درصد تعدیل | K8: خالص ارزش فروش تعدیل شده | M8: دلیل تعدیل

Sheet سپرده 
A1: صندوق قابل معامله با درآمد ثابت ماهور
A2: صورت وضعیت پرتفوی
A3: برای ماه منتهی به 1405/06/31
A5: -4-1 | B5: سرمایه‌گذاری در سپرده‌ بانکی
D6: 1405/05/31 | F6: تغییرات طی دوره | J6: 1405/05/31
A7: سپرده های بانکی | D7: مبلغ | F7: افزایش | H7: کاهش | J7: مبلغ | L7: درصد به کل دارایی ها | O7: =اوراق!AJ7 -> 152046121760472
A8: سپرده های بانکی | D8: 228896258220 | E8: 0 | F8: 110508670701624 | G8: 0 | H8: 110719985715819 | I8: 0 | J8: 17581244025 | L8: =J8/$O$7 -> 0.00011563099
A9: گواهی سپرده | D9: 98512278630074 | F9: 21828276000000 | G9: 0 | H9: 35244933000000 | I9: 0 | J9: 85095621630074 | L9: =J9/$O$7 -> 0.55966979
D10: =SUM(D8:D9) -> 98741174888294 | F10: =SUM(F8:F9) -> 132336946701624 | G10: =SUM(G8:G9) -> 0 | H10: =SUM(H8:H9) -> 145964918715819 | J10: =SUM(J8:J9) -> 85113202874099 | L10: =SUM(L8:L9) -> 0.55978542

Sheet سپرده
A1: صندوق قابل معامله با درآمد ثابت ماهور
A2: صورت وضعیت پرتفوی
A3: برای ماه منتهی به 1405/06/31
A5: -4-1 | B5: سرمایه‌گذاری در سپرده‌ بانکی
D6: 1405/05/31 | F6: تغییرات طی دوره | J6: 1405/06/31
A8: سپرده های بانکی | D8: مبلغ | F8: افزایش | H8: کاهش | J8: مبلغ | L8: درصد به کل دارایی ها
J9: 8964659582 | L9: 0.01%
J10: 465706341 | L10: 0.00%
J11: 7305229 | L11: 0.00%
J12: 1645413756 | L12: 0.00%
J13: 1092788592 | L13: 0.00%
J14: 281879 | L14: 0.00%
J15: 18396444 | L15: 0.00%
J16: 156699 | L16: 0.00%
J17: 233630 | L17: 0.00%
J18: 22268251 | L18: 0.00%
J19: 8475488 | L19: 0.00%
J20: 29394070 | L20: 0.00%
... J105: 286300000000 | L105: 0.19%
D106: =SUM(D9:D105) -> 0 | E106: =SUM(E9:E105) -> 0 | F106: =SUM(F9:F105) -> 0 | G106: =SUM(G9:G105) -> 0 | H106: =SUM(H9:H105) -> 0 | I106: =SUM(I9:I105) -> 0 | J106: =SUM(J9:J105) -> 85113202874099 | K106: =SUM(K9:K105) -> 0
D107: =D106-'سپرده '!D10 -> -98741174888294 | E107: =E106-'سپرده '!E10 -> 0 | F107: =F106-'سپرده '!F10 -> -132336946701624 | G107: =G106-'سپرده '!G10 -> 0 | H107: =H106-'سپرده '!H10 -> -145964918715819 | I107: =I106-'سپرده '!I10 -> 0 | J107: =J106-'سپرده '!J10 -> 0

Sheet درآمد
A1: صندوق قابل معامله با درآمد ثابت ماهور
A2: صورت وضعیت درآمدها
A3: برای ماه منتهی به 1405/06/31
A5: -2 | B5: درآمد حاصل از سرمایه گذاری ها
A7: شرح | D7: یادداشت | F7: مبلغ | H7: درصد از کل درآمدها | J7: درصد از کل دارایی ها | M7: ='سپرده '!O7 -> 152046121760472
A8: درآمد حاصل از سرمایه گذاری در سهام و حق تقدم سهام | D8: 1-2 | F8: ='درآمد سرمایه گذاری در سهام'!J19 -> 80338715504 | H8: =F8/F13 -> 0.018441459 | J8: =F8/M7 -> 0.00052838385
A9: درآمد حاصل از سرمایه گذاری در واحدهای صندوق های سرمایه گذاری | D9: 2-2 | F9: ='درآمد سرمایه گذاری در صندوق'!J23 -> 1020425944405 | H9: =F9/$F$13 -> 0.23423505 | J9: =F9/$M$7 -> 0.0067112922
A10: درآمد حاصل از سرمایه گذاری در اوراق بهادار با درآمد ثابت | D10: 3-2 | F10: ='درآمد سرمایه گذاری در اوراق به'!J25 -> 407535994210 | H10: =F10/$F$13 -> 0.093548401 | J10: =F10/$M$7 -> 0.0026803446
A11: درآمد حاصل از سرمایه گذاری در سپرده بانکی و گواهی سپرده | D11: 4-2 | F11: ='درآمد سپرده بانکی '!D10 -> 2845072694281 | H11: =F11/$F$13 -> 0.65307606 | J11: =F11/$M$7 -> 0.018711906
A12: سایر درآمدها | D12: 5-2 | F12: ='سایر درآمدها'!D10 -> 3045254474 | H12: =F12/$F$13 -> 0.00069902706 | J12: =F12/$M$7 -> 2.0028492e-05
A13: جمع | F13: =SUM(F8:F12) -> 4356418602874 | H13: =SUM(H8:H12) -> 1 | J13: =SUM(J8:J12) -> 0.028651955

Sheet درآمد سرمایه گذاری در سهام
A1: صندوق قابل معامله با درآمد ثابت ماهور
A2: صورت وضعیت درآمدها
A3: برای ماه منتهی به 1405/06/31
A5: -1-2 | B5: درآمد حاصل از سرمایه­گذاری در سهام و حق تقدم سهام
D7: طی ماه | N7: از ابتدای سال مالی
J8: جمع | U8: جمع
A9: سهام | D9: درآمد سود سهام | F9: درآمد تغییر ارزش | H9: درآمد فروش | J9: مبلغ | L9: درصد از کل درآمدها | N9: درآمد سود سهام | P9: درآمد تغییر ارزش | S9: درآمد فروش | U9: مبلغ | W9: درصد از کل درآمدها
A10: شمش نقره SilverBar | D10: 0 | F10: 31830534198 | H10: 2874719618 | J10: =D10+F10+H10 -> 34705253816 | L10: =Z10/Z19 -> 0.33843985 | N10: 0 | P10: 18332033019 | S10: 2874719618 | U10: =N10+P10+S10 -> 21206752637 | W10: =AA10/$AA$19 -> 0.14240394 | Z10: =ABS(J10) -> 34705253816 | AA10: =ABS(U10) -> 21206752637
A11: شمش طلا GoldBar | D11: 0 | F11: 0 | H11: 30641521669 | J11: =D11+F11+H11 -> 30641521669 | L11: =Z11/$Z$19 -> 0.29881101 | N11: 0 | P11: 0 | S11: 30641521669 | U11: =N11+P11+S11 -> 30641521669 | W11: =AA11/$AA$19 -> 0.20575868 | Z11: =ABS(J11) -> 30641521669 | AA11: =ABS(U11) -> 30641521669
A12: گروه توسعه مالی مهرآیندگان | D12: 0 | F12: 2158187249 | H12: 0 | J12: =D12+F12+H12 -> 2158187249 | L12: =Z12/$Z$19 -> 0.021046282 | N12: 4250000000 | P12: 12924316617 | S12: -496134484 | U12: =N12+P12+S12 -> 16678182133 | W12: =AA12/$AA$19 -> 0.11199446 | Z12: =ABS(J12) -> 2158187249 | AA12: =ABS(U12) -> 16678182133
A13: شرکت کیسون | D13: 0 | F13: 0 | H13: 0 | J13: =D13+F13+H13 -> 0 | L13: =Z13/$Z$19 -> 0 | N13: 0 | P13: 0 | S13: 14308535181 | U13: =N13+P13+S13 -> 14308535181 | W13: =AA13/$AA$19 -> 0.096082216 | Z13: =ABS(J13) -> 0 | AA13: =ABS(U13) -> 14308535181
A14: کربن‌ ایران‌ | D14: 0 | F14: 0 | H14: 0 | J14: =D14+F14+H14 -> 0 | L14: =Z14/$Z$19 -> 0 | N14: 5603678725 | P14: 0 | S14: 952579376 | U14: =N14+P14+S14 -> 6556258101 | W14: =AA14/$AA$19 -> 0.044025458 | Z14: =ABS(J14) -> 0 | AA14: =ABS(U14) -> 6556258101
A15: فولاد هرمزگان جنوب | D15: 0 | F15: 20445000606 | H15: 0 | J15: =D15+F15+H15 -> 20445000606 | L15: =Z15/$Z$19 -> 0.19937624 | N15: 56358742977 | P15: -11425147396 | S15: 0 | U15: =N15+P15+S15 -> 44933595581 | W15: =AA15/$AA$19 -> 0.30173036 | Z15: =ABS(J15) -> 20445000606 | AA15: =ABS(U15) -> 44933595581
A16: پارس‌ مینو | D16: 0 | F16: -11103053192 | H16: 0 | J16: =D16+F16+H16 -> -11103053192 | L16: =Z16/$Z$19 -> 0.10827512 | N16: 0 | P16: -11103053192 | S16: 0 | U16: =N16+P16+S16 -> -11103053192 | W16: =AA16/$AA$19 -> 0.074557314 | Z16: =ABS(J16) -> 11103053192 | AA16: =ABS(U16) -> 11103053192
A17: تولیدی فولاد سپید فراب کویر | D17: 0 | F17: 44907564 | H17: 0 | J17: =D17+F17+H17 -> 44907564 | L17: =Z17/$Z$19 -> 0.00043793107 | N17: 0 | P17: 44907564 | S17: 0 | U17: =N17+P17+S17 -> 44907564 | W17: =AA17/$AA$19 -> 0.00030155556 | Z17: =ABS(J17) -> 44907564 | AA17: =ABS(U17) -> 44907564
A18: نساجی هدیه البرز مشهد | D18: 0 | F18: 3446897792 | H18: 0 | J18: =D18+F18+H18 -> 3446897792 | L18: =Z18/$Z$19 -> 0.033613572 | N18: 0 | P18: 3446897792 | S18: 0 | U18: =N18+P18+S18 -> 3446897792 | W18: =AA18/$AA$19 -> 0.023146016 | Z18: =ABS(J18) -> 3446897792 | AA18: =ABS(U18) -> 3446897792
A19: جمع | D19: 0 | F19: =SUM(F10:F18) -> 46822474217 | H19: =SUM(H10:H18) -> 33516241287 | J19: =SUM(J10:J18) -> 80338715504 | L19: =SUM(L10:L18) -> 1 | N19: =SUM(N10:N18) -> 66212421702 | Q19: =SUM(P10:Q18) -> 12219954404 | S19: =SUM(S10:S18) -> 48281221360 | U19: =SUM(U10:U18) -> 126713597466 | W19: =SUM(W10:W18) -> 1 | Z19: =SUM(Z10:Z18) -> 102544821888 | AA19: =SUM(AA10:AA18) -> 148919703850
S23: 1305964321311
S24: =S19+'درآمد سرمایه گذاری در صندوق'!S23 -> 1305964321311

Sheet درآمد سرمایه گذاری در صندوق
A1: صندوق قابل معامله با درآمد ثابت ماهور
A2: صورت وضعیت درآمدها
A3: برای ماه منتهی به 1405/06/31
A5: -2-2 | B5: درآمد حاصل از سرمایه­گذاری در واحدهای صندوق
D6: طی ماه | N6: از ابتدای سال مالی
J7: جمع | U7: جمع
A8: صندوق | D8: درآمد سود صندوق | F8: درآمد تغییر ارزش | H8: درآمد فروش | J8: مبلغ | L8: درصد از کل درآمدها | N8: درآمد سود صندوق | P8: درآمد تغییر ارزش | S8: درآمد فروش | U8: مبلغ | W8: درصد از کل درآمدها
A9: صندوق س.كالاي ديباي ليان | D9: 0 | F9: -487061261838 | H9: 818293183134 | J9: =D9+F9+H9 -> 331231921296 | L9: =Z9/$Z$23 -> 0.32431273 | N9: 0 | P9: 3536428577 | S9: 763485381808 | U9: =N9+P9+S9 -> 767021810385 | W9: =AB9/$AB$23 -> 0.31689826 | Z9: =ABS(J9) -> 331231921296 | AB9: =ABS(U9) -> 767021810385
A10: صندوق س اهرمی نارنج - واحدهای عادی صندوق | D10: 0 | F10: -117685859967 | H10: 237661303455 | J10: =D10+F10+H10 -> 119975443488 | L10: =Z10/$Z$23 -> 0.11746924 | N10: 0 | P10: 121546063224 | S10: 364852549679 | U10: =N10+P10+S10 -> 486398612903 | W10: =AB10/$AB$23 -> 0.20095762 | Z10: =ABS(J10) -> 119975443488 | AB10: =ABS(U10) -> 486398612903
A11: صندوق س.بخشی صنایع معیار-ب | D11: 0 | F11: 0 | H11: 15897241072 | J11: =D11+F11+H11 -> 15897241072 | L11: =Z11/$Z$23 -> 0.015565159 | N11: 0 | P11: 0 | S11: 20834218204 | U11: =N11+P11+S11 -> 20834218204 | W11: =AB11/$AB$23 -> 0.0086077443 | Z11: =ABS(J11) -> 15897241072 | AB11: =ABS(U11) -> 20834218204
A12: صندوق س. کالای دیبای معیار1 | D12: 0 | F12: 0 | H12: 17438794186 | J12: =D12+F12+H12 -> 17438794186 | L12: =Z12/$Z$23 -> 0.01707451 | N12: 0 | P12: 0 | S12: 17438794186 | U12: =N12+P12+S12 -> 17438794186 | W12: =AB12/$AB$23 -> 0.0072049107 | Z12: =ABS(J12) -> 17438794186 | AB12: =ABS(U12) -> 17438794186
A13: صندوق س.سهام آوای معیار-س | D13: 0 | F13: -41704504585 | H13: 78973518246 | J13: =D13+F13+H13 -> 37269013661 | L13: =Z13/$Z$23 -> 0.036490491 | N13: 0 | P13: 8881464 | S13: 78973518246 | U13: =N13+P13+S13 -> 78982399710 | W13: =AB13/$AB$23 -> 0.032631908 | Z13: =ABS(J13) -> 37269013661 | AB13: =ABS(U13) -> 78982399710
A14: صندوق س.كالاي آبان | D14: 0 | F14: 0 | H14: 0 | J14: =D14+F14+H14 -> 0 | L14: =Z14/$Z$23 -> 0 | N14: 0 | P14: 0 | S14: 7391046504 | U14: =N14+P14+S14 -> 7391046504 | W14: =AB14/$AB$23 -> 0.0030536417 | Z14: =ABS(J14) -> 0 | AB14: =ABS(U14) -> 7391046504
A15: صندوق طلای عیار مفید | D15: 0 | F15: 0 | H15: 0 | J15: =D15+F15+H15 -> 0 | L15: =Z15/$Z$23 -> 0 | N15: 0 | P15: 0 | S15: 4765278177 | U15: =N15+P15+S15 -> 4765278177 | W15: =AB15/$AB$23 -> 0.0019687946 | Z15: =ABS(J15) -> 0 | AB15: =ABS(U15) -> 4765278177
A16: صندوق س شاخصی شفق رابین | D16: 0 | F16: 0 | H16: 0 | J16: =D16+F16+H16 -> 0 | L16: =Z16/$Z$23 -> 0 | N16: 0 | P16: 0 | S16: -57686853 | U16: =N16+P16+S16 -> -57686853 | W16: =AB16/$AB$23 -> 2.3833564e-05 | Z16: =ABS(J16) -> 0 | AB16: =ABS(U16) -> 57686853
A17: صندوق س.پشتوانه طلا دنای زاگرس | D17: 0 | F17: 104782323232 | H17: 0 | J17: =D17+F17+H17 -> 104782323232 | L17: =Z17/$Z$23 -> 0.1025935 | N17: 0 | P17: 243623227788 | S17: 0 | U17: =N17+P17+S17 -> 243623227788 | W17: =AB17/$AB$23 -> 0.10065395 | Z17: =ABS(J17) -> 104782323232 | AB17: =ABS(U17) -> 243623227788
A18: صندوق س اندیشه خبرگان-سهام | D18: 0 | F18: 30284105984 | H18: 0 | J18: =D18+F18+H18 -> 30284105984 | L18: =Z18/$Z$23 -> 0.029651493 | N18: 0 | P18: 97903502840 | S18: 0 | U18: =N18+P18+S18 -> 97903502840 | W18: =AB18/$AB$23 -> 0.040449241 | Z18: =ABS(J18) -> 30284105984 | AB18: =ABS(U18) -> 97903502840
A19: صندوق س.پشتوانه طلای رز | D19: 0 | F19: 358753699486 | H19: 0 | J19: =D19+F19+H19 -> 358753699486 | L19: =Z19/$Z$23 -> 0.3512596 | N19: 0 | P19: 691193966736 | S19: 0 | U19: =N19+P19+S19 -> 691193966736 | W19: =AB19/$AB$23 -> 0.28556967 | Z19: =ABS(J19) -> 358753699486 | AB19: =ABS(U19) -> 691193966736
A20: صندوق س صنایع کارآمد1-بخشی | D20: 0 | F20: 3651582000 | H20: 0 | J20: =D20+F20+H20 -> 3651582000 | L20: =Z20/$Z$23 -> 0.0035753031 | N20: 0 | P20: 3197082000 | S20: 0 | U20: =N20+P20+S20 -> 3197082000 | W20: =AB20/$AB$23 -> 0.0013208878 | Z20: =ABS(J20) -> 3651582000 | AB20: =ABS(U20) -> 3197082000
... A22: صندوق س راه نو ره سود-سهام | D22: 0 | F22: -454500000 | H22: 0 | J22: =D22+F22+H22 -> -454500000 | L22: =Z22/$Z$23 -> 0.00044500583 | N22: 0 | P22: -454500000 | S22: 0 | U22: =N22+P22+S22 -> -454500000 | W22: =AB22/$AB$23 -> 0.00018777857 | Z22: =ABS(J22) -> 454500000 | AB22: =ABS(U22) -> 454500000
A23: جمع | D23: 0 | F23: =SUM(F9:F22) -> -147838095688 | H23: =SUM(H9:H22) -> 1168264040093 | J23: =SUM(J9:J22) -> 1020425944405 | L23: =SUM(L9:L22) -> 1 | N23: =SUM(N9:N22) -> 0 | Q23: =SUM(P9:Q22) -> 1161696472629 | S23: =SUM(S9:S22) -> 1257683099951 | U23: =SUM(U9:U22) -> 2419379572580 | W23: =SUM(W9:W22) -> 1 | Z23: =SUM(Z9:Z22) -> 1021334944405 | AA23: =SUM(L9:L22) -> 1 | AB23: =SUM(AB9:AB22) -> 2420403946286 | AC23: =SUM(W9:W22) -> 1

Sheet درآمد سرمایه گذاری در اوراق به
A1: صندوق قابل معامله با درآمد ثابت ماهور
A2: صورت وضعیت درآمدها
A3: برای ماه منتهی به 1405/06/31
A5: -3-2 | B5: درآمد حاصل از سرمایه­گذاری در اوراق بهادار با درآمد ثابت:
D8: طی ماه | L8: از ابتدای سال مالی
A10: عنوان | D10: درآمد سود اوراق | F10: درآمد تغییر ارزش | H10: درآمد فروش | J10: جمع | L10: درآمد سود اوراق | N10: درآمد تغییر ارزش | P10: درآمد فروش | R10: جمع
A11: مرابحه عام دولت265-ش.خ070430 | D11: 179832022804 | F11: -502848019947 | H11: 25918213161 | J11: =D11+F11+H11 -> -297097783982 | L11: 1152589771336 | N11: 63524523296 | P11: 112071793761 | R11: =L11+N11+P11 -> 1328186088393
A12: سلف گندله سنگ آهن صبانور | D12: 172201551518 | F12: -1344161 | H12: 1344163 | J12: =D12+F12+H12 -> 172201551520 | L12: 1022759219657 | N12: 2945295684878 | P12: 11197786 | R12: =L12+N12+P12 -> 3968066102321
A13: مرابحه تولید اصفهان مقدم050201 | D13: 0 | F13: 0 | H13: 0 | J13: =D13+F13+H13 -> 0 | L13: 23304177664 | N13: 0 | P13: 407812500 | R13: =L13+N13+P13 -> 23711990164
A14: مرابحه عام دولت259-ش.خ070502 | D14: 0 | F14: 0 | H14: 0 | J14: =D14+F14+H14 -> 0 | L14: 533565254531 | N14: 0 | P14: 233227618117 | R14: =L14+N14+P14 -> 766792872648
A15: مشارکت ش تبریز062-3ماهه20.5% | D15: 74276704276 | F15: 0 | H15: 0 | J15: =D15+F15+H15 -> 74276704276 | L15: 429845270616 | N15: 181650 | P15: 16 | R15: =L15+N15+P15 -> 429845452282
A16: مرابحه عام دولت254-ش.خ070911 | D16: 37371628770 | F16: -24952424737 | H16: 0 | J16: =D16+F16+H16 -> 12419204033 | L16: 223857475829 | N16: -30041655962 | P16: 0 | R16: =L16+N16+P16 -> 193815819867
A17: مرابحه عام دولت245-ش.خ070813 | D17: 12715910088 | F17: 0 | H17: 0 | J17: =D17+F17+H17 -> 12715910088 | L17: 73247765773 | N17: 3925447307 | P17: 0 | R17: =L17+N17+P17 -> 77173213080
A18: مرابحه عام دولت244-ش.خ070913 | D18: 50395115396 | F18: 10635256233 | H18: 0 | J18: =D18+F18+H18 -> 61030371629 | L18: 290292207449 | N18: -80432216907 | P18: 0 | R18: =L18+N18+P18 -> 209859990542
A19: مرابحه آرگون نورد ایران080714 | D19: 70135247270 | F19: 0 | H19: 0 | J19: =D19+F19+H19 -> 70135247270 | L19: 407957037056 | N19: 0 | P19: 0 | R19: =L19+N19+P19 -> 407957037056
A20: مرابحه عام دولت209-ش.خ050821 | D20: 80891246503 | F20: 7248256083 | H20: 0 | J20: =D20+F20+H20 -> 88139502586 | L20: 80891246503 | N20: 7248256083 | P20: 0 | R20: =L20+N20+P20 -> 88139502586
A21: صکوک مرابحه سپید507-بدون ضامن | D21: 41473378434 | F21: 0 | H21: 0 | J21: =D21+F21+H21 -> 41473378434 | L21: 238639652648 | N21: 0 | P21: 0 | R21: =L21+N21+P21 -> 238639652648
A22: اسنادخزانه-م3بودجه02-050818 | D22: 0 | F22: 272431785 | H22: 0 | J22: =D22+F22+H22 -> 272431785 | L22: 0 | N22: 1262267269 | P22: 0 | R22: =L22+N22+P22 -> 1262267269
... A24: سلف موازی هیدروکربن آفتاب062 | D24: 60399448272 | F24: 101845936346 | H24: 0 | J24: =D24+F24+H24 -> 162245384618 | L24: 340984022347 | N24: 611075618073 | P24: 0 | R24: =L24+N24+P24 -> 952059640420
A25: جمع | D25: =SUM(D11:D24) -> 789416345284 | F25: =SUM(F11:F24) -> -407799908398 | H25: =SUM(H11:H24) -> 25919557324 | J25: =SUM(J11:J24) -> 407535994210 | L25: =SUM(L11:L24) -> 4874998344333 | N25: =SUM(N11:N24) -> 3521858105687 | P25: =SUM(P11:P24) -> 345718422180 | R25: =SUM(R11:R24) -> 8742574872200

Sheet .مبالغ تخصیصی اوراق
A1: صندوق قابل معامله با درآمد ثابت ماهور
A2: صورت وضعیت درآمدها
A3: برای ماه منتهی به 1405/06/31
A5: 1-3-2مبالغ تخصیص یافته بابت خرید و نگهداری اوراق بهادار با درآمد ثابت (نرخ سود ترجیحی)
K6: مبلغ شناسایی شده بابت قرارداد خرید و نگهداری اوراق بهادار | O6: میانگین نرخ بازده تا سررسید قراردادهای منعقده
A7: طرف معامله | C7: نوع وابستگی | E7: نام ورقه بهادار | G7: تعداد اوراق | I7: بهای تمام شده اوراق | M7: نرخ اسمی
A8: بازارگردانی آسمان زاگرس | C8: سایر | E8: صکوک مرابحه سپید | G8: 1500000 | I8: 1500000000000 | K8: 7273583934 | M8: 0.26 | O8: 0.3697
A9: صندوق سرمایه گذاری اختصاصی بازارگردانی معیار | C9: بازارگردان صندوق | E9: تبریز | G9: 2997794 | I9: 2997794405082 | K9: 20628324949 | M9: 0.205 | O9: 0.373
A10: سلف گندله سنگ آهن صبانور | C10: بازارگردان صندوق | E10: عصبانور11 | G10: 2191181 | I10: 14922747892148 | K10: 177915852872 | M10: 0.27 | O10: 0.395
A11: سلف موازی استاندارد هیروکربن سبک شرکت پالایش نفت آفتاب | C11: سایر | E11: سهیدرو | G11: 1335900 | I11: 4999848883800 | K11: 54685146918 | M11: 0.27 | O11: 0.4044
A12: مرابحه آرگون نورد ایران080714 | C12: بازارگردان صندوق | E12: آرگون081 | G12: 2500000 | I12: 2500000000000 | K12: 20261874020 | M12: 0.23 | O12: 0.395
A13: اوراق اختیار فروش تبعی فولاد هرمزگان جنوب | C13: سایر | E13: هرمز1 | G13: 606007989 | I13: 1000203930206 | K13: 9724091953 | M13: 0.383 | O13: =M13 -> 0.383
A14: مرابحه عام دولت245-ش.خ070813 | C14: سایر | E14: اراد 245 | G14: 624417 | I14: 543197775920 | M14: 0.23 | O14: 0.39998564
A15: مرابحه عام دولت265-ش.خ070430 | C15: سایر | E15: اراد2651 | G15: 10691200 | I15: 8870642903691 | M15: 0.23 | O15: 0.3975

Sheet مبالغ تخصیصی اوراق
A1: صندوق قابل معامله با درآمد ثابت ماهور
A2: صورت وضعیت درآمدها
A3: برای ماه منتهی به 1405/06/31
A5: -1-3-2 | B5: مبالغ تخصیص یافته بابت خرید و نگهداری اوراق بهادار با درآمد ثابت (نرخ سود ترجیحی)
M6: مبلغ شناسایی شده بابت قرارداد خرید و نگهداری اوراق بهادار | Q6: میانگین نرخ بازده تا سررسید قراردادهای منعقده
A7: طرف معامله | D7: نوع وابستگی | F7: نام ورقه بهادار | H7: تعداد اوراق | J7: بهای تمام شده اوراق | O7: نرخ اسمی
A8: شرکت... | D8: مدیر صندوق | F8: ورقه الف
F9: ورقه ب
A10: شرکت... | D10: شرکت مادر | F10: ورقه الف
F11: ورقه د
A12: صندوق سرمایه­گذاری اختصاصی بازارگردانی … | D12: صندوق­ سرمایه­گذاری اختصاصی بازارگردانی تحت مدیریت مدیر صندوق یا اشخاص تحت کنترل یا وابسته * | F12: ورقه ج
A13: سایر | D13: سایر | F13: ورقه ح
F14: ورقه ط
F15: ورقه ی
F16: ورقه س
A18: *به تفکیک هر یک از صندوق­های سرمایه­گذاری اختصاصی بازارگردانی طرف قرارداد افشا گردد.

Sheet درآمد سپرده بانکی 
A1: صندوق قابل معامله با درآمد ثابت ماهور
A2: صورت وضعیت درآمدها
A3: برای ماه منتهی به 1405/06/31
A5: -4-2 | B5: درآمد حاصل از سرمایه­گذاری در سپرده بانکی و گواهی سپرده
D6: طی ماه | H6: از ابتدای سال مالی
A7: نام سپرده بانکی | D7: سود سپرده بانکی و گواهی سپرده | F7: درصد سود به میانگین سپرده | H7: سود سپرده بانکی و گواهی سپرده | J7: درصد سود به میانگین سپرده
A8: سپرده بانکی | D8: 716366 | E8: 0 | F8: =D8/N17 -> 5.8128307e-06 | G8: 0 | H8: 2209076177 | J8: =H8/Q17 -> 0.024523158
A9: گواهی ‫سپرده بانکی | D9: 2845071977915 | E9: 0 | F9: =D9/N23 -> 0.030990736 | G9: 0 | H9: 14939761046632 | J9: =H9/Q23 -> 0.35112878
A10: جمع | D10: =SUM(D8:D9) -> 2845072694281 | F10: =SUM(F8:F9) -> 0.030996549 | H10: =SUM(H8:H9) -> 14941970122809 | J10: =SUM(J8:J9) -> 0.37565194
N12: طی ماه/ماه قبل
L13: کوتاه مدت | P13: از ابتدای سال مالی
M14: اول دوره | N14: ='سپرده '!D8 -> 228896258220 | Q14: 162581214340 | S14: 1404/01/01 تا 1404/01/01
S15: 11-30
M16: انتها دوره | N16: ='سپرده '!J8 -> 17581244025 | Q16: =N16 -> 17581244025
M17: میانگین | N17: =(N14+N16)/2 -> 1.2323875e+11 | Q17: =(Q14+Q16)/2 -> 9.0081229e+10
L19: گواهی سپردها | M19: طی ماه | N19: 1405/02/31
M20: اول دوره | N20: ='سپرده '!D9 -> 98512278630074 | Q20: 46362016000000 | S20: =S14 -> 1404/01/01 تا 1404/01/01
N21: 1405.01.01
M22: انتها دوره | N22: ='سپرده '!J9 -> 85095621630074 | Q22: =N22 -> 85095621630074
M23: میانگین | N23: =(N20+N22)/2 -> 91803950130074 | Q23: =(Q21+Q22)/2 -> 42547810815037

Sheet درآمد سپرده بانکی
A1: صندوق قابل معامله با درآمد ثابت ماهور
A2: صورت وضعیت درآمدها
A3: برای ماه منتهی به 1405/06/31
A5: -4-2 | B5: درآمد حاصل از سرمایه­گذاری در سپرده بانکی و گواهی سپرده
D6: طی ماه | H6: از ابتدای سال مالی
A7: نام سپرده بانکی | D7: سود سپرده بانکی و گواهی سپرده | F7: درصد سود به میانگین سپرده | H7: سود سپرده بانکی و گواهی سپرده | J7: درصد سود به میانگین سپرده
A8: سپرده کوتاه مدت موسسه اعتباری ملل بلوار دریا ( کوتاه مدت) | D8: 0 | H8: 3511
H9: 459529
H10: 152640
H11: 1157150944
H12: 1128095
H13: 210991
H14: 1072899
H15: 30765
H16: 78641
H17: 1047361372
H18: 4629452905
H19: 20638561595
H20: 16686575621
... H165: 4674082190
A166: سپرده بلند مدت بانک صادرات بیست متری افسریه | D166: 251002739 | H166: 251002739
D167: =SUM(D8:D166) -> 251002739 | H167: =SUM(H8:H166) -> 14941970122809
D168: =D167-'درآمد سپرده بانکی '!D10 -> -2844821691542 | H168: =H167-'درآمد سپرده بانکی '!H10 -> 0

Sheet سایر درآمدها
A1: صندوق قابل معامله با درآمد ثابت ماهور
A2: صورت وضعیت درآمدها
A3: برای ماه منتهی به 1405/06/31
A5: -5-2 | B5: سایر درآمدها
D6: طی ماه | F6: 1405/06/31
A7: سایر درآمدها | D7: مبلغ | F7: مبلغ
A8: معین برای سایر درآمدهای تنزیل سود بانک | D8: 0 | F8: 3591452720
A9: تعدیل کارمزد کارگزار | D9: 3045254474 | F9: 6820688100
A10: جمع | D10: 3045254474 | F10: 10412140820

Sheet درآمد سود سهام
A1: صندوق قابل معامله با درآمد ثابت ماهور
A2: صورت وضعیت درآمدها
A3: برای ماه منتهی به 1405/06/31
A5: درآمد سود سهام
A6: نام سهام | C6: اطلاعات مجمع | I6: طی ماه | O6: از ابتدای سال مالی
C7: تاریخ تشکیل مجمع | E7: تعداد سهام متعلقه در زمان مجمع | G7: سود متعلق به هر سهم | I7: جمع درآمد سود سهام | K7: هزینه تنزیل | M7: خالص درآمد سود سهام | O7: جمع درآمد سود سهام | Q7: هزینه تنزیل | S7: خالص درآمد سود سهام
A8: کربن‌ ایران‌ | C8: 1405/04/21 | E8: 4000000 | G8: 1565 | I8: 0 | K8: 0 | M8: =I8-K8 -> 0 | O8: 6260000000 | Q8: 656321275 | S8: =O8-Q8 -> 5603678725
A9: فولاد هرمزگان جنوب | C9: 1405/03/27 | E9: 606007989 | G9: 93 | I9: 0 | K9: 0 | M9: =I9-K9 -> 0 | O9: 56358742977 | Q9: 0 | S9: =O9-Q9 -> 56358742977
A10: گروه توسعه مالی مهرآیندگان | C10: 1405/04/27 | E10: 5000000 | G10: 850 | I10: 0 | K10: 0 | M10: =I10-K10 -> 0 | O10: 4250000000 | Q10: 0 | S10: =O10-Q10 -> 4250000000
A11: جمع | I11: =SUM(I8:I10) -> 0 | K11: =SUM(K8:K10) -> 0 | M11: =SUM(M8:M10) -> 0 | O11: =SUM(O8:O10) -> 66868742977 | Q11: =SUM(Q8:Q10) -> 656321275 | S11: =SUM(S8:S10) -> 66212421702

Sheet درآمد سود صندوق
A1: صندوق قابل معامله با درآمد ثابت ماهور
A2: صورت وضعیت درآمدها
A3: برای ماه منتهی به 1405/06/31
A5: درآمد سود صندوق
I6: طی ماه | K6: از ابتدای سال مالی
A7: نام صندوق | C7: تاریخ تقسیم سود | E7: تعداد واحد صندوق در زمان تقسیم سود | G7: سود متعلق به هر واحد | I7: خالص درآمد سود صندوق | K7: خالص درآمد سود صندوق

Sheet سود اوراق بهادار
A1: صندوق قابل معامله با درآمد ثابت ماهور
A2: صورت وضعیت درآمدها
A3: برای ماه منتهی به 1405/06/31
A5: سود اوراق بهادار با درآمد ثابت
A6: شرح | D6: طی ماه | J6: از ابتدای سال مالی
B7: تاریخ سررسید | D7: درآمد سود | F7: هزینه تنزیل | H7: خالص درآمد | J7: درآمد سود | L7: هزینه تنزیل | N7: خالص درآمد
A8: مرابحه عام دولت265-ش.خ070430 | B8: 1407/04/30 | D8: 179832022804 | F8: 0 | H8: =D8-F8 -> 179832022804 | J8: 1152589771336 | L8: 0 | N8: =J8-L8 -> 1152589771336
A9: مرابحه عام دولت259-ش.خ070502 | B9: 1407/05/02 | D9: 0 | F9: 0 | H9: =D9-F9 -> 0 | J9: 533565254531 | L9: 0 | N9: =J9-L9 -> 533565254531
A10: {='درآمد سرمایه گذاری در اوراق به'!A12:B12} -> سلف گندله سنگ آهن صبانور | B10: 0 | D10: ='درآمد سرمایه گذاری در اوراق به'!D12 -> 172201551518 | F10: 0 | H10: =D10-F10 -> 172201551518 | J10: ='درآمد سرمایه گذاری در اوراق به'!L12 -> 1022759219657 | L10: 0 | N10: =J10-L10 -> 1022759219657
A11: {='درآمد سرمایه گذاری در اوراق به'!A23:B23} -> اوراق فولاد هرمزگان جنوب | B11: 0 | D11: ='درآمد سرمایه گذاری در اوراق به'!D23 -> 9724091953 | F11: 0 | H11: =D11-F11 -> 9724091953 | J11: ='درآمد سرمایه گذاری در اوراق به'!L23 -> 57065242924 | L11: 0 | N11: =J11-L11 -> 57065242924
A12: {='درآمد سرمایه گذاری در اوراق به'!A24:B24} -> سلف موازی هیدروکربن آفتاب062 | B12: 0 | D12: ='درآمد سرمایه گذاری در اوراق به'!D24 -> 60399448272 | F12: 0 | H12: =D12-F12 -> 60399448272 | J12: ='درآمد سرمایه گذاری در اوراق به'!L24 -> 340984022347 | L12: 0 | N12: =J12-L12 -> 340984022347
A13: مرابحه عام دولت254-ش.خ070911 | B13: 1407/09/11 | D13: 37371628770 | F13: 0 | H13: =D13-F13 -> 37371628770 | J13: 223857475829 | L13: 0 | N13: =J13-L13 -> 223857475829
A14: مرابحه عام دولت245-ش.خ070813 | B14: 1407/08/13 | D14: 12715910088 | F14: 0 | H14: =D14-F14 -> 12715910088 | J14: 73247765773 | L14: 0 | N14: =J14-L14 -> 73247765773
A15: مرابحه عام دولت244-ش.خ070913 | B15: 1407/09/13 | D15: 50395115396 | F15: 0 | H15: =D15-F15 -> 50395115396 | J15: 290292207449 | L15: 0 | N15: =J15-L15 -> 290292207449
A16: مرابحه آرگون نورد ایران080714 | B16: 1408/07/14 | D16: 70135247270 | F16: 0 | H16: =D16-F16 -> 70135247270 | J16: 407957037056 | L16: 0 | N16: =J16-L16 -> 407957037056
A17: مشارکت ش تبریز062-3ماهه20.5% | B17: 1406/12/28 | D17: 74276704276 | F17: 0 | H17: =D17-F17 -> 74276704276 | J17: 429845270616 | L17: 0 | N17: =J17-L17 -> 429845270616
A18: مرابحه عام دولت209-ش.خ050821 | B18: 1405/08/21 | D18: 80891246503 | F18: 0 | H18: =D18-F18 -> 80891246503 | J18: 80891246503 | L18: 0 | N18: =J18-L18 -> 80891246503
A19: صکوک مرابحه سپید507-بدون ضامن | B19: 1405/07/08 | D19: 41473378434 | F19: 0 | H19: =D19-F19 -> 41473378434 | J19: 238639652648 | L19: 0 | N19: =J19-L19 -> 238639652648
A20: مرابحه تولید اصفهان مقدم050201 | B20: 1405/02/01 | D20: 0 | F20: 0 | H20: =D20-F20 -> 0 | J20: 23304177664 | L20: 0 | N20: =J20-L20 -> 23304177664
A21: جمع | D21: =SUM(D8:D20) -> 789416345284 | F21: =SUM(F8:F20) -> 0 | H21: =SUM(H8:H20) -> 789416345284 | J21: =SUM(J8:J20) -> 4874998344333 | L21: =SUM(L8:L20) -> 0 | N21: =SUM(N8:N20) -> 4874998344333

Sheet سود سپرده بانکی 
A1: صندوق قابل معامله با درآمد ثابت ماهور
A2: صورت وضعیت درآمدها
A3: برای ماه منتهی به 1405/06/31
A5: سود سپرده بانکی
A6: شرح | C6: طی ماه | I6: از ابتدای سال مالی
C7: درآمد سود | E7: هزینه تنزیل | G7: خالص درآمد | I7: درآمد سود | K7: هزینه تنزیل | M7: خالص درآمد
A8: سود سپرده بانک | C8: 2845072694281 | D8: 0 | E8: -314863517 | F8: 0 | G8: 2845387557798 | H8: 0 | I8: 14941970122809 | J8: 0 | K8: 16871275005 | L8: 0 | M8: 14925098847804
A9: جمع | C9: =SUM(C8:C8) -> 2845072694281 | D9: =SUM(D8:D8) -> 0 | E9: =SUM(E8:E8) -> -314863517 | F9: =SUM(F8:F8) -> 0 | G9: =SUM(G8:G8) -> 2845387557798 | H9: =SUM(H8:H8) -> 0 | I9: =SUM(I8:I8) -> 14941970122809 | J9: =SUM(J8:J8) -> 0 | ... M9: =SUM(M8:M8) -> 14925098847804

Sheet سود سپرده بانکی
A1: صندوق قابل معامله با درآمد ثابت ماهور
A2: صورت وضعیت درآمدها
A3: برای ماه منتهی به 1405/06/31
A5: سود سپرده بانکی
A6: شرح | C6: طی ماه | I6: از ابتدای سال مالی
C7: درآمد سود | E7: هزینه تنزیل | G7: خالص درآمد | I7: درآمد سود | K7: هزینه تنزیل | M7: خالص درآمد
A8: سپرده کوتاه مدت موسسه اعتباری ملل بلوار دریا ( کوتاه مدت) | C8: 0 | E8: 0 | G8: 0 | I8: 3511 | K8: 0 | M8: 3511
A9: سپرده کوتاه مدت بانک گردشگری قیطریه(کوتاه مدت) | C9: 140257 | E9: 0 | G9: 140257 | I9: 459529 | K9: 0 | M9: 459529
A10: سپرده کوتاه مدت بانک گردشگری مرکزی( کوتاه مدت) | C10: 30761 | E10: 0 | G10: 30761 | I10: 152640 | K10: 0 | M10: 152640
A11: سپرده کوتاه مدت بانک صادرات شریعتی( کوتاه مدت) | C11: 345947 | E11: 0 | G11: 345947 | I11: 1157150944 | K11: 0 | M11: 1157150944
A12: سپرده کوتاه مدت بانک خاورمیانه مهستان (کوتاه مدت) | C12: 60944 | E12: 0 | G12: 60944 | I12: 1128095 | K12: 0 | M12: 1128095
A13: سپرده کوتاه مدت بانک گردشگری قلهک (کوتاه مدت) | C13: 35688 | E13: 0 | G13: 35688 | I13: 210991 | K13: 0 | M13: 210991
A14: سپرده کوتاه مدت بانک ملی 22 بهمن (کوتاه مدت) | C14: 0 | E14: 0 | G14: 0 | I14: 1072899 | K14: 0 | M14: 1072899
A15: سپرده کوتاه مدت بانک تجارت سه راه آذری(کوتاه مدت) | C15: 9775 | E15: 0 | G15: 9775 | I15: 30765 | K15: 0 | M15: 30765
A16: سپرده کوتاه مدت بانک تجارت مرکزی(کوتاه مدت) | C16: 0 | E16: 0 | G16: 0 | I16: 78641 | K16: 0 | M16: 78641
A17: سپرده کوتاه مدت بانک صادرات بیست متری افسریه( کوتاه مدت) | C17: 19420 | E17: 0 | G17: 19420 | I17: 1047361372 | K17: 0 | M17: 1047361372
A18: سپرده بلند مدت موسسه اعتباری ملل شهید دادمان | C18: 0 | E18: 0 | G18: 0 | I18: 4629452905 | K18: 0 | M18: 4629452905
A19: سپرده بلند مدت بانک صادرات زعفرانیه | C19: 0 | E19: 0 | G19: 0 | I19: 20638561595 | K19: 0 | M19: 20638561595
... A166: سپرده بلند مدت بانک صادرات بیست متری افسریه | C166: 251002739 | E166: 0 | G166: 251002739 | I166: 251002739 | K166: 0 | M166: 251002739
A167: جمع | C167: =SUM(C8:C166) -> 2845072694281 | D167: =SUM(D8:D166) -> 0 | E167: =SUM(E8:E166) -> -314863517 | F167: =SUM(F8:F166) -> 0 | G167: =SUM(G8:G166) -> 2845387557798 | H167: =SUM(H8:H166) -> 0 | I167: =SUM(I8:I166) -> 14941970122809 | J167: =SUM(J8:J166) -> 0 | ... M167: =SUM(M8:M166) -> 14925098847804

Sheet درآمد ناشی از فروش
A1: صندوق قابل معامله با درآمد ثابت ماهور
A2: صورت وضعیت درآمدها
A3: برای ماه منتهی به 1405/06/31
A5: سود(زیان) حاصل از فروش اوراق بهادار
A6: شرح | C6: طی ماه | K6: از ابتدای سال مالی
C7: تعداد | E7: خالص بهای فروش | G7: ارزش دفتری | I7: سود و زیان ناشی از فروش | K7: تعداد | M7: خالص بهای فروش | O7: ارزش دفتری | Q7: سود و زیان ناشی از فروش
A8: صندوق س.كالاي ديباي ليان | C8: 100715337 | E8: 4202291372231 | G8: 3383998189097 | I8: =E8-G8 -> 818293183134 | K8: 162440485 | M8: 6203158310696 | O8: 5439672928888 | Q8: =M8-O8 -> 763485381808
A9: صندوق س اهرمی نارنج - واحدهای عادی صندوق | C9: 149985001 | E9: 3002623227669 | G9: 2764961924214 | I9: =E9-G9 -> 237661303455 | K9: 259959707 | M9: 5002513256279 | O9: 4637660706600 | Q9: =M9-O9 -> 364852549679
A10: صندوق س.بخشی صنایع معیار-ب | C10: 10000000 | E10: 128201607887 | G10: 112304366815 | I10: =E10-G10 -> 15897241072 | K10: 32882250 | M10: 357650579618 | O10: 336816361414 | Q10: 20834218204
A11: صندوق س. کالای دیبای معیار1 | C11: 20000000 | E11: 217678794186 | G11: 200240000000 | I11: =E11-G11 -> 17438794186 | K11: 20000000 | M11: 217678794186 | O11: 200240000000 | Q11: 17438794186
A12: شمش نقره SilverBar | C12: 46734 | E12: 219683190092 | G12: 216808470474 | I12: =E12-G12 -> 2874719618 | K12: 46734 | M12: 219683190092 | O12: 216808470474 | Q12: 2874719618
A13: صندوق س.سهام آوای معیار-س | C13: 7000000 | E13: 262217509400 | G13: 183243991154 | I13: =E13-G13 -> 78973518246 | K13: 7000000 | M13: 262217509400 | O13: 183243991154 | Q13: 78973518246
A14: شمش طلا GoldBar | C14: 6274 | E14: 188197289155 | G14: 157555767486 | I14: =E14-G14 -> 30641521669 | K14: 6274 | M14: 188197289155 | O14: 157555767486 | Q14: 30641521669
A15: صندوق س.كالاي آبان | C15: 0 | E15: 0 | G15: 0 | I15: =E15-G15 -> 0 | K15: 10850331 | M15: 365975979729 | O15: 358584933225 | Q15: 7391046504
A16: صندوق طلای عیار مفید | C16: 0 | E16: 0 | G16: 0 | I16: =E16-G16 -> 0 | K16: 200000 | M16: 102589747777 | O16: 97824469600 | Q16: 4765278177
A17: گروه توسعه مالی مهرآیندگان | C17: 0 | E17: 0 | G17: 0 | I17: =E17-G17 -> 0 | K17: 8333333 | M17: 48042404274 | O17: 48538538758 | Q17: -496134484
A18: صندوق س شاخصی شفق رابین | C18: 0 | E18: 0 | G18: 0 | I18: =E18-G18 -> 0 | K18: 1562699 | M18: 17154830053 | O18: 17212516906 | Q18: -57686853
A19: شرکت کیسون | C19: 0 | E19: 0 | G19: 0 | I19: =E19-G19 -> 0 | K19: 160000000 | M19: 198632610381 | O19: 184324075200 | Q19: 14308535181
A20: کربن‌ ایران‌ | C20: 0 | E20: 0 | G20: 0 | I20: =E20-G20 -> 0 | K20: 4000000 | M20: 25600566176 | O20: 24647986800 | Q20: 952579376
A21: مرابحه عام دولت265-ش.خ070430 | C21: 1211000 | E21: 1003868830897 | G21: 977950617736 | I21: =E21-G21 -> 25918213161 | K21: 4856200 | M21: 4003628341397 | O21: 3891556547636 | Q21: 112071793761
... A25: مشارکت ش تبریز062-3ماهه20.5% | C25: 0 | E25: 0 | G25: 0 | I25: =E25-G25 -> 0 | K25: 129 | M25: 132784484 | O25: 132784468 | Q25: 16
A26: جمع | C26: =SUM(C8:C25) -> 288964347 | E26: =SUM(E8:E25) -> 9224771120995 | G26: =SUM(G8:G25) -> 7997071282291 | I26: =SUM(I8:I25) -> 1227699838704 | K26: =SUM(K8:K25) -> 685188153 | M26: =SUM(M8:M25) -> 27886385603530 | O26: =SUM(O8:O25) -> 26234702860039 | Q26: =SUM(Q8:Q25) -> 1651682743491

Sheet درآمد اعمال اختیار
A1: صندوق قابل معامله با درآمد ثابت ماهور
A2: صورت وضعیت درآمدها
A3: برای ماه منتهی به 1405/06/31
A5: سود (زیان) ناشی از اعمال اختیار معامله سهام
E7: طی ماه | Y7: از ابتدای سال مالی
A8: نام سهم | C8: نام اختیار | E8: تاریخ اعمال | G8: تعداد | I8: قیمت اعمال | K8: ارزش اعمال | M8: ارزش دفتری اختیار | O8: بهای تمام شده سهم | Q8: کارمزد اعمال | S8: مالیات اعمال | U8: کارمزد فروش اختیار | W8: سود(زیان)اعمال | Y8: سود(زیان)اعمال

Sheet درآمد ناشی از تغییر قیمت اوراق
A1: صندوق قابل معامله با درآمد ثابت ماهور
A2: صورت وضعیت درآمدها
A3: برای ماه منتهی به 1405/06/31
A5: درآمد ناشی از تغییر قیمت اوراق بهادار
A6: شرح | C6: طی ماه | K6: از ابتدای سال مالی
C7: تعداد | E7: خالص ارزش فروش | G7: ارزش دفتری | I7: سود و زیان ناشی از تغییر قیمت | K7: تعداد | M7: خالص ارزش فروش | O7: ارزش دفتری | Q7: سود و زیان ناشی از تغییر قیمت
A8: فولاد هرمزگان جنوب | C8: 606007989 | E8: 1139508122029 | G8: 1119063121423 | I8: =E8-G8 -> 20445000606 | K8: 606007989 | M8: 1139508122029 | O8: 1150933269426 | Q8: =M8-O8 -> -11425147397
A9: صندوق س.سهام آوای معیار-س | C9: 1000 | E9: 35059178 | G9: 41739563763 | I9: =E9-G9 -> -41704504585 | K9: 1000 | M9: 35059178 | O9: 26177714 | Q9: =M9-O9 -> 8881464
A10: گروه توسعه مالی مهرآیندگان | C10: 7500000 | E10: 42047441250 | G10: 39889254000 | I10: =E10-G10 -> 2158187250 | K10: 7500000 | M10: 42047441250 | O10: 29123124633 | Q10: =M10-O10 -> 12924316617
A11: صندوق س.پشتوانه طلا دنای زاگرس | C11: 10828676 | E11: 951509587774 | G11: 846727264542 | I11: =E11-G11 -> 104782323232 | K11: 10828676 | M11: 951509587774 | O11: 707886359986 | Q11: =M11-O11 -> 243623227788
A12: صندوق س اندیشه خبرگان-سهام | C12: 3340000 | E12: 199939080000 | G12: 169654974016 | I12: =E12-G12 -> 30284105984 | K12: 3340000 | M12: 199939080000 | O12: 102035577160 | Q12: =M12-O12 -> 97903502840
A13: صندوق س اهرمی نارنج - واحدهای عادی صندوق | C13: 75865903 | E13: 1520128133047 | G13: 1637813993015 | I13: =E13-G13 -> -117685859968 | K13: 75865903 | M13: 1520128133047 | O13: 1398582069823 | Q13: =M13-O13 -> 121546063224
A14: صندوق س.كالاي ديباي ليان | C14: 351956 | E14: 15362020627 | G14: 502423282466 | I14: =E14-G14 -> -487061261839 | K14: 351956 | M14: 15362020627 | O14: 11825592050 | Q14: =M14-O14 -> 3536428577
A15: صندوق س.پشتوانه طلای رز | C15: 98460724 | E15: 2915562206326 | G15: 2556808506840 | I15: =E15-G15 -> 358753699486 | K15: 98460724 | M15: 2915562206326 | O15: 2224368239590 | Q15: =M15-O15 -> 691193966736
A16: شمش نقره SilverBar | C16: 49714 | E16: 248965325728 | G16: 217134791530 | I16: =E16-G16 -> 31830534198 | K16: 49714 | M16: 248965325728 | O16: 230633292709 | Q16: =M16-O16 -> 18332033019
A17: پارس‌ مینو | C17: 56000000 | E17: 110800837280 | G17: 121903890472 | I17: =E17-G17 -> -11103053192 | K17: 56000000 | M17: 110800837280 | O17: 121903890472 | Q17: =M17-O17 -> -11103053192
A18: تولیدی فولاد سپید فراب کویر | C18: 1000000 | E18: 2604708750 | G18: 2559801185 | I18: =E18-G18 -> 44907565 | K18: 1000000 | M18: 2604708750 | O18: 2559801185 | Q18: =M18-O18 -> 44907565
A19: نساجی هدیه البرز مشهد | C19: 69300000 | E19: 1113981838200 | G19: 1110534940407 | I19: =E19-G19 -> 3446897793 | K19: 69300000 | M19: 1113981838200 | O19: 1110534940407 | Q19: =M19-O19 -> 3446897793
... A34: ظهرمز05091 | C34: 606007989 | E34: 605548937 | G34: 605548937 | I34: =E34-G34 -> 0 | K34: 606007989 | M34: 605548937 | O34: 605548937 | Q34: =M34-O34 -> 0
A35: جمع | E35: =SUM(E8:E34) -> 63997280178878 | G35: =SUM(G8:G34) -> 64506095708749 | I35: =SUM(I8:I34) -> -508815529871 | M35: =SUM(M8:M34) -> 63997280178878 | O35: =SUM(O8:O34) -> 59301505646159 | Q35: =SUM(Q8:Q34) -> 4695774532719
